BEGIN:VCALENDAR
VERSION:2.0
PRODID:-//Hope Inspire Love - ECPv6.15.20//NONSGML v1.0//EN
CALSCALE:GREGORIAN
METHOD:PUBLISH
X-WR-CALNAME:Hope Inspire Love
X-ORIGINAL-URL:https://hopeinspirelove.org
X-WR-CALDESC:Events for Hope Inspire Love
REFRESH-INTERVAL;VALUE=DURATION:PT1H
X-Robots-Tag:noindex
X-PUBLISHED-TTL:PT1H
BEGIN:VTIMEZONE
TZID:America/New_York
BEGIN:DAYLIGHT
TZOFFSETFROM:-0500
TZOFFSETTO:-0400
TZNAME:EDT
DTSTART:20210314T070000
END:DAYLIGHT
BEGIN:STANDARD
TZOFFSETFROM:-0400
TZOFFSETTO:-0500
TZNAME:EST
DTSTART:20211107T060000
END:STANDARD
BEGIN:DAYLIGHT
TZOFFSETFROM:-0500
TZOFFSETTO:-0400
TZNAME:EDT
DTSTART:20220313T070000
END:DAYLIGHT
BEGIN:STANDARD
TZOFFSETFROM:-0400
TZOFFSETTO:-0500
TZNAME:EST
DTSTART:20221106T060000
END:STANDARD
BEGIN:DAYLIGHT
TZOFFSETFROM:-0500
TZOFFSETTO:-0400
TZNAME:EDT
DTSTART:20230312T070000
END:DAYLIGHT
BEGIN:STANDARD
TZOFFSETFROM:-0400
TZOFFSETTO:-0500
TZNAME:EST
DTSTART:20231105T060000
END:STANDARD
BEGIN:DAYLIGHT
TZOFFSETFROM:-0500
TZOFFSETTO:-0400
TZNAME:EDT
DTSTART:20240310T070000
END:DAYLIGHT
BEGIN:STANDARD
TZOFFSETFROM:-0400
TZOFFSETTO:-0500
TZNAME:EST
DTSTART:20241103T060000
END:STANDARD
BEGIN:DAYLIGHT
TZOFFSETFROM:-0500
TZOFFSETTO:-0400
TZNAME:EDT
DTSTART:20250309T070000
END:DAYLIGHT
BEGIN:STANDARD
TZOFFSETFROM:-0400
TZOFFSETTO:-0500
TZNAME:EST
DTSTART:20251102T060000
END:STANDARD
BEGIN:DAYLIGHT
TZOFFSETFROM:-0500
TZOFFSETTO:-0400
TZNAME:EDT
DTSTART:20260308T070000
END:DAYLIGHT
BEGIN:STANDARD
TZOFFSETFROM:-0400
TZOFFSETTO:-0500
TZNAME:EST
DTSTART:20261101T060000
END:STANDARD
END:VTIMEZONE
BEGIN:VEVENT
DTSTART;TZID=America/New_York:20251029T063000
DTEND;TZID=America/New_York:20251029T203000
DTSTAMP:20260424T164000
CREATED:20250914T213239Z
LAST-MODIFIED:20251027T223245Z
UID:3029-1761719400-1761769800@hopeinspirelove.org
SUMMARY:Art of Kintsugi - Trauma Art Class - 102925
DESCRIPTION:Wednesday\, October 29 – 6:30 to 8:30 pm \nThis class is open to our community\, where you can let your healing journey be as stunning as a piece of Kintsugi pottery. Art of Kintsugi is a beautiful\, superb metaphor for trauma\, where we reflect and reframe the brokenness in ourselves and in the people we serve.
URL:https://hopeinspirelove.org/event/art-of-kintsugi-trauma-art-class-102925/
LOCATION:Hope Inspire Love HQ\, 1380 Harrisburg Pike\, Lancaster\, PA\, 17601\, United States
CATEGORIES:Women's Event,Trauma Art Class
ATTACH;FMTTYPE=image/jpeg:https://hopeinspirelove.org/wp-content/uploads/2024/02/kintsugi-bowl-half.jpg
END:VEVENT
BEGIN:VEVENT
DTSTART;TZID=America/New_York:20241107T080000
DTEND;TZID=America/New_York:20241109T170000
DTSTAMP:20260424T164000
CREATED:20230127T223402Z
LAST-MODIFIED:20240123T171419Z
UID:1915-1730966400-1731171600@hopeinspirelove.org
SUMMARY:Inspire Conference - Women of Purpose
DESCRIPTION:See us at our Hope Inspire Love booth at this year’s Inspire Conference on November 7-9\, 2024\, at the Hershey Lodge & Convention Center.
URL:https://hopeinspirelove.org/event/inspire-conference-women-of-purpose/
LOCATION:Hershey Lodge\, 325 University Dr\, Hershey\, PA\, 17033\, United States
CATEGORIES:Pop-up Shop,Women's Event
END:VEVENT
BEGIN:VEVENT
DTSTART;TZID=America/New_York:20230602T080000
DTEND;TZID=America/New_York:20230603T160000
DTSTAMP:20260424T164000
CREATED:20230127T220822Z
LAST-MODIFIED:20230425T181455Z
UID:1898-1685692800-1685808000@hopeinspirelove.org
SUMMARY:Reframe Conference
DESCRIPTION:See us at our Hope Inspire Love booth at this year’s Reframe Conference on June 2-3\, 2023\, at Victory Church in Lancaster\, PA.
URL:https://hopeinspirelove.org/event/reframe-conference/
LOCATION:Victory Church – Greenfield Campus\, 1827 Freedom Road\, Suite 103\, Lancaster\, PA\, 17601
CATEGORIES:Pop-up Shop,Women's Event
END:VEVENT
BEGIN:VEVENT
DTSTART;TZID=America/New_York:20230512T183000
DTEND;TZID=America/New_York:20230513T203000
DTSTAMP:20260424T164000
CREATED:20230425T174543Z
LAST-MODIFIED:20230425T180915Z
UID:2126-1683916200-1684009800@hopeinspirelove.org
SUMMARY:Mother's Day Event at Artisan Mill
DESCRIPTION:Join us for a 2-day event and celebrate Mother’s Day by shopping with purpose at Artisan Mill Co’s VIP event in Lititz\, PA – Friday\, May 12th or Saturday\, May 13th – Daughters\, bring your moms for a private evening of shopping\, free coffee from Oakwood Coffee\, make your own perfume spray with Soap Avenue\, lip gloss sampling\, raffles\, pierogi sampling\, craft beverage sampling\, light refreshments\, and snacks. \nLock your spot today! Access is limited to only 100 people each day. This is a ticketed event – $25 fee per person. First come\, first served. \nProceeds of this event are going to Hope Inspire Love! Together\, we are fighting to put an end to human trafficking and sexual exploitation in our community. \nPurchase your tickets today! Go to: artisanmillcompany.com
URL:https://hopeinspirelove.org/event/mothers-day-event-at-artisan-mill/
LOCATION:Artisan Mill\, 813 Rothsville Rd\, Lititz\, PA\, 17543\, United States
CATEGORIES:Pop-up Shop,Women's Event,Awareness Event,Fundraising Event
ATTACH;FMTTYPE=image/jpeg:https://hopeinspirelove.org/wp-content/uploads/2023/04/Mothers-Day-Event-Social-FB-Event-2023.jpg
END:VEVENT
BEGIN:VEVENT
DTSTART;TZID=America/New_York:20221110T080000
DTEND;TZID=America/New_York:20221112T170000
DTSTAMP:20260424T164000
CREATED:20220715T023306Z
LAST-MODIFIED:20220715T024318Z
UID:1738-1668067200-1668272400@hopeinspirelove.org
SUMMARY:Women of Purpose - Illuminate
DESCRIPTION:
URL:https://hopeinspirelove.org/event/women-of-purpose/
LOCATION:Hershey Lodge\, 325 University Dr\, Hershey\, PA\, 17033\, United States
CATEGORIES:Women's Event
END:VEVENT
BEGIN:VEVENT
DTSTART;TZID=America/New_York:20221025T080000
DTEND;TZID=America/New_York:20221026T170000
DTSTAMP:20260424T164000
CREATED:20220715T022511Z
LAST-MODIFIED:20220715T022511Z
UID:1730-1666684800-1666803600@hopeinspirelove.org
SUMMARY:Wellness Collective
DESCRIPTION:
URL:https://hopeinspirelove.org/event/wellness-collective/
LOCATION:Star Barn\, 1 Hollinger Ln\, Elizabethtown\, PA\, 17022\, United States
CATEGORIES:Women's Event
END:VEVENT
END:VCALENDAR