BEGIN:VCALENDAR
VERSION:2.0
PRODID:-//Hope Inspire Love - ECPv6.15.20//NONSGML v1.0//EN
CALSCALE:GREGORIAN
METHOD:PUBLISH
X-ORIGINAL-URL:https://hopeinspirelove.org
X-WR-CALDESC:Events for Hope Inspire Love
REFRESH-INTERVAL;VALUE=DURATION:PT1H
X-Robots-Tag:noindex
X-PUBLISHED-TTL:PT1H
BEGIN:VTIMEZONE
TZID:America/New_York
BEGIN:DAYLIGHT
TZOFFSETFROM:-0500
TZOFFSETTO:-0400
TZNAME:EDT
DTSTART:20220313T070000
END:DAYLIGHT
BEGIN:STANDARD
TZOFFSETFROM:-0400
TZOFFSETTO:-0500
TZNAME:EST
DTSTART:20221106T060000
END:STANDARD
BEGIN:DAYLIGHT
TZOFFSETFROM:-0500
TZOFFSETTO:-0400
TZNAME:EDT
DTSTART:20230312T070000
END:DAYLIGHT
BEGIN:STANDARD
TZOFFSETFROM:-0400
TZOFFSETTO:-0500
TZNAME:EST
DTSTART:20231105T060000
END:STANDARD
BEGIN:DAYLIGHT
TZOFFSETFROM:-0500
TZOFFSETTO:-0400
TZNAME:EDT
DTSTART:20240310T070000
END:DAYLIGHT
BEGIN:STANDARD
TZOFFSETFROM:-0400
TZOFFSETTO:-0500
TZNAME:EST
DTSTART:20241103T060000
END:STANDARD
BEGIN:DAYLIGHT
TZOFFSETFROM:-0500
TZOFFSETTO:-0400
TZNAME:EDT
DTSTART:20250309T070000
END:DAYLIGHT
BEGIN:STANDARD
TZOFFSETFROM:-0400
TZOFFSETTO:-0500
TZNAME:EST
DTSTART:20251102T060000
END:STANDARD
END:VTIMEZONE
BEGIN:VEVENT
DTSTART;TZID=America/New_York:20240530T183000
DTEND;TZID=America/New_York:20240530T203000
DTSTAMP:20260424T134348
CREATED:20240319T005917Z
LAST-MODIFIED:20240515T023241Z
UID:2483-1717093800-1717101000@hopeinspirelove.org
SUMMARY:Trauma Art Class - Art of Kintsugi - Wednesday\, June 12
DESCRIPTION:Art of Kintsugi is a beautiful\, superb metaphor for trauma where we reflect and reframe that brokenness in ourselves and in the people we serve. \nCLICK HERE TO REGISTER.
URL:https://hopeinspirelove.org/event/trauma-art-class-art-of-kintsugi-053024/
LOCATION:Hope Inspire Love HQ\, 1380 Harrisburg Pike\, Lancaster\, PA\, 17601\, United States
CATEGORIES:Training,Trauma Art Class
ATTACH;FMTTYPE=image/jpeg:https://hopeinspirelove.org/wp-content/uploads/2024/02/kintsugi-bowl-half.jpg
END:VEVENT
BEGIN:VEVENT
DTSTART;TZID=America/New_York:20240427T093000
DTEND;TZID=America/New_York:20240427T120000
DTSTAMP:20260424T134348
CREATED:20240123T173236Z
LAST-MODIFIED:20240427T020122Z
UID:2375-1714210200-1714219200@hopeinspirelove.org
SUMMARY:Safe Connections: Parent and Caregiver Seminar
DESCRIPTION:
URL:https://hopeinspirelove.org/event/safe-connections-parent-and-caregiver-seminar/
LOCATION:Hope Inspire Love HQ\, 1380 Harrisburg Pike\, Lancaster\, PA\, 17601\, United States
CATEGORIES:Training,Seminar,Awareness Event
ATTACH;FMTTYPE=image/jpeg:https://hopeinspirelove.org/wp-content/uploads/2024/01/Safe-Connections-Seminar-Victory-Ephrata-16x9-LandingPage-2024.jpg
END:VEVENT
BEGIN:VEVENT
DTSTART;TZID=America/New_York:20240321T183000
DTEND;TZID=America/New_York:20240321T203000
DTSTAMP:20260424T134348
CREATED:20240205T165136Z
LAST-MODIFIED:20240302T144913Z
UID:2399-1711045800-1711053000@hopeinspirelove.org
SUMMARY:Trauma Art Class - Art of Kintsugi
DESCRIPTION:Art of Kintsugi is a beautiful\, superb metaphor for trauma where we reflect and reframe that brokenness in ourselves and in the people we serve. \nCLICK HERE TO REGISTER.
URL:https://hopeinspirelove.org/event/trauma-art-class-art-of-kintsugi/
LOCATION:Hope Inspire Love HQ\, 1380 Harrisburg Pike\, Lancaster\, PA\, 17601\, United States
CATEGORIES:Training,Trauma Art Class
ATTACH;FMTTYPE=image/jpeg:https://hopeinspirelove.org/wp-content/uploads/2024/02/kintsugi-bowl-half.jpg
END:VEVENT
BEGIN:VEVENT
DTSTART;TZID=America/New_York:20240121T113000
DTEND;TZID=America/New_York:20240121T113000
DTSTAMP:20260424T134348
CREATED:20240123T210101Z
LAST-MODIFIED:20240326T194847Z
UID:2385-1705836600-1705836600@hopeinspirelove.org
SUMMARY:The Truth About Human Trafficking Seminar: For Shelters
DESCRIPTION:
URL:https://hopeinspirelove.org/event/the-truth-about-human-trafficking-seminar-for-shelters/
LOCATION:Clipper Stadium\, 650 N Prince St\, Lancaster\, PA\, 17603
CATEGORIES:Training,Seminar,Awareness Event
END:VEVENT
BEGIN:VEVENT
DTSTART;TZID=America/New_York:20231019T090000
DTEND;TZID=America/New_York:20231019T160000
DTSTAMP:20260424T134348
CREATED:20230127T222044Z
LAST-MODIFIED:20230127T222126Z
UID:1907-1697706000-1697731200@hopeinspirelove.org
SUMMARY:Rekindled Nurse
DESCRIPTION:
URL:https://hopeinspirelove.org/event/rekindled-nurse/
LOCATION:PA
CATEGORIES:Training,Seminar
END:VEVENT
BEGIN:VEVENT
DTSTART;TZID=America/New_York:20230907T183000
DTEND;TZID=America/New_York:20230907T203000
DTSTAMP:20260424T134348
CREATED:20230127T221320Z
LAST-MODIFIED:20230127T221320Z
UID:1903-1694111400-1694118600@hopeinspirelove.org
SUMMARY:Volunteer Orientation
DESCRIPTION:
URL:https://hopeinspirelove.org/event/volunteer-orientation-2/
LOCATION:Victory Church – Ephrata Campus\, 939 Linden Road\, Ephrata\, PA\, 17522\, United States
CATEGORIES:Training,Orientation
END:VEVENT
BEGIN:VEVENT
DTSTART;TZID=America/New_York:20230518T183000
DTEND;TZID=America/New_York:20230518T203000
DTSTAMP:20260424T134348
CREATED:20230425T171654Z
LAST-MODIFIED:20230425T171654Z
UID:2124-1684434600-1684441800@hopeinspirelove.org
SUMMARY:Volunteer Orientation
DESCRIPTION:
URL:https://hopeinspirelove.org/event/volunteer-orientation-may-18/
LOCATION:Victory Church – Ephrata Campus\, 939 Linden Road\, Ephrata\, PA\, 17522\, United States
CATEGORIES:Training,Orientation
END:VEVENT
BEGIN:VEVENT
DTSTART;TZID=America/New_York:20230423T124500
DTEND;TZID=America/New_York:20230423T144500
DTSTAMP:20260424T134348
CREATED:20230206T163655Z
LAST-MODIFIED:20230206T171556Z
UID:1918-1682253900-1682261100@hopeinspirelove.org
SUMMARY:The Truth about Human Trafficking
DESCRIPTION:Learn what human trafficking really is\, how it happens in our community\, and how you can be part of the solution.
URL:https://hopeinspirelove.org/event/the-truth-about-human-trafficking/
LOCATION:Victory Church – Audubon\, 2650 Audubon Rd\, Norristown\, PA\, 19403\, United States
CATEGORIES:Training,Seminar,Speaking Engagement,Awareness Event
END:VEVENT
BEGIN:VEVENT
DTSTART;TZID=America/New_York:20230311T093000
DTEND;TZID=America/New_York:20230311T120000
DTSTAMP:20260424T134348
CREATED:20230127T214053Z
LAST-MODIFIED:20230227T164716Z
UID:1886-1678527000-1678536000@hopeinspirelove.org
SUMMARY:Parent & Caregiver Seminar - Lancaster
DESCRIPTION:Join us for a morning of awareness and education as you learn how to talk to your kids and teens about sex trafficking. In this seminar\, we will be discussing signs and key indicators of human trafficking\, recruitment strategies\, online grooming\, apps/gaming and social media\, vulnerabilities that may lead to trafficking\, and an in-depth look at who the traffickers are and how they operate. You will also learn how pornography fuels the trafficking industry\, how to have age-appropriate conversations with your kids\, and how to report suspected cases. – Lancaster\, PA \nLearn more about the speaker and seminar\, click here > \nRegister today\, click here >
URL:https://hopeinspirelove.org/event/parent-caregiver-seminar-lancaster/
LOCATION:Victory Church – Greenfield Campus\, 1827 Freedom Road\, Suite 103\, Lancaster\, PA\, 17601
CATEGORIES:Training,Seminar,Speaking Engagement,Awareness Event
ATTACH;FMTTYPE=image/jpeg:https://hopeinspirelove.org/wp-content/uploads/2023/01/Parent-Caregiver-Seminar-Victory-Greenfield-Shopify-Header-scaled.jpg
END:VEVENT
BEGIN:VEVENT
DTSTART;TZID=America/New_York:20230209T183000
DTEND;TZID=America/New_York:20230209T200000
DTSTAMP:20260424T134348
CREATED:20220725T140102Z
LAST-MODIFIED:20230127T213649Z
UID:1784-1675967400-1675972800@hopeinspirelove.org
SUMMARY:Volunteer Orientation
DESCRIPTION:
URL:https://hopeinspirelove.org/event/volunteer-orientation/
LOCATION:Victory Church – Ephrata Campus\, 939 Linden Road\, Ephrata\, PA\, 17522\, United States
CATEGORIES:Training,Orientation
END:VEVENT
END:VCALENDAR